BEGIN:VCALENDAR
VERSION:2.0
PRODID:-//Montclair Plan - ECPv6.15.20//NONSGML v1.0//EN
CALSCALE:GREGORIAN
METHOD:PUBLISH
X-ORIGINAL-URL:https://www.montclairplan.org
X-WR-CALDESC:Events for Montclair Plan
REFRESH-INTERVAL;VALUE=DURATION:PT1H
X-Robots-Tag:noindex
X-PUBLISHED-TTL:PT1H
BEGIN:VTIMEZONE
TZID:UTC
BEGIN:STANDARD
TZOFFSETFROM:+0000
TZOFFSETTO:+0000
TZNAME:UTC
DTSTART:20180101T000000
END:STANDARD
END:VTIMEZONE
BEGIN:VEVENT
DTSTART;TZID=UTC:20190307T180000
DTEND;TZID=UTC:20190307T193000
DTSTAMP:20260423T220253
CREATED:20190117T173957Z
LAST-MODIFIED:20190117T174104Z
UID:261-1551981600-1551987000@www.montclairplan.org
SUMMARY:CORE Focus Group Meeting
DESCRIPTION:The focus group will discuss the preferred land use plan that directs new growth by reinvesting in key opportunity areas like the Station Area\, Arrow Hwy Mixed-Use District\, the corridors\, and other neighborhood centers while protecting natural resources\, respecting stable residential neighborhoods\, and making great places. The focus group will also address transportation choices by strengthening and balancing pedestrian\, bike\, and transit connections in the City and surrounding region.
URL:https://www.montclairplan.org/meeting/core-focus-group-meeting/
LOCATION:Montclair Senior Center\, 511 Benito Street\, Montclair\, CA\, 91763\, United States
CATEGORIES:Focus Group Meetings
END:VEVENT
BEGIN:VEVENT
DTSTART;TZID=UTC:20190207T180000
DTEND;TZID=UTC:20190207T193000
DTSTAMP:20260423T220253
CREATED:20190117T173044Z
LAST-MODIFIED:20190117T173530Z
UID:259-1549562400-1549567800@www.montclairplan.org
SUMMARY:Our Active & Creative Community Focus Group Meeting
DESCRIPTION:The focus groups will address parks and open spaces; and arts\, cultural events\, and community programs.
URL:https://www.montclairplan.org/meeting/our-active-creative-community-focus-group-meeting/
LOCATION:Montclair Senior Center\, 511 Benito Street\, Montclair\, CA\, 91763\, United States
CATEGORIES:Focus Group Meetings
END:VEVENT
BEGIN:VEVENT
DTSTART;TZID=UTC:20190131T180000
DTEND;TZID=UTC:20190131T193000
DTSTAMP:20260423T220253
CREATED:20190117T172500Z
LAST-MODIFIED:20190117T172500Z
UID:257-1548957600-1548963000@www.montclairplan.org
SUMMARY:Our Natural\, Healthy\, & Our Safe Community Focus Group Meeting
DESCRIPTION:The focus groups will address how Montclair can thrive in balance with the communities natural ecosystems\, and will build effective partnerships that protect and improve the social well being and security.
URL:https://www.montclairplan.org/meeting/our-natural-healthy-our-safe-community-focus-group-meeting/
LOCATION:Montclair Senior Center\, 511 Benito Street\, Montclair\, CA\, 91763\, United States
CATEGORIES:Focus Group Meetings
END:VEVENT
END:VCALENDAR