BEGIN:VCALENDAR
VERSION:2.0
PRODID:-//Montclair Plan - ECPv6.15.20//NONSGML v1.0//EN
CALSCALE:GREGORIAN
METHOD:PUBLISH
X-WR-CALNAME:Montclair Plan
X-ORIGINAL-URL:https://www.montclairplan.org
X-WR-CALDESC:Events for Montclair Plan
REFRESH-INTERVAL;VALUE=DURATION:PT1H
X-Robots-Tag:noindex
X-PUBLISHED-TTL:PT1H
BEGIN:VTIMEZONE
TZID:UTC
BEGIN:STANDARD
TZOFFSETFROM:+0000
TZOFFSETTO:+0000
TZNAME:UTC
DTSTART:20170101T000000
END:STANDARD
END:VTIMEZONE
BEGIN:VEVENT
DTSTART;TZID=UTC:20201201T180000
DTEND;TZID=UTC:20201201T193000
DTSTAMP:20260423T232549
CREATED:20201126T004119Z
LAST-MODIFIED:20201126T004550Z
UID:454-1606845600-1606851000@www.montclairplan.org
SUMMARY:General Plan and AHMUD Specific Plan EIR Scoping Meeting
DESCRIPTION:The City of Montclair will hold an EIR Scoping Meeting to provide an additional opportunity for input on the scope and content of the EIR. The Scoping Meeting is tentatively scheduled for Tuesday\, December 1\, at 6:00 p.m. Please check the project website (www.montclairplan.org) to confirm this meeting time prior to the meeting. Due to ongoing restriction related to the COVID-19 pandemic\, the meeting will be conducted remotely. Information on how to access the meeting is provided below:  \nTo join from a PC\, Mac\, iPad\, iPhone or Android device please use the following URL: https://zoom.us/j/95992983928. To join by phone dial US: +1 669 900 6833  or +1 301 715 8592 (for higher quality\, dial a number based on your current location). Use Webinar ID: 959 9298 3928. International numbers are available at https://zoom.us/u/adGQtig6pr. 
URL:https://www.montclairplan.org/meeting/general-plan-and-ahmud-specific-plan-eir-scoping-meeting/
END:VEVENT
BEGIN:VEVENT
DTSTART;VALUE=DATE:20190408
DTEND;VALUE=DATE:20190412
DTSTAMP:20260423T232549
CREATED:20180511T182521Z
LAST-MODIFIED:20190117T170844Z
UID:114-1554681600-1555027199@www.montclairplan.org
SUMMARY:Visioning Charrette
DESCRIPTION:A charrette is an collaborative and rigorous planning process that harnesses the talents and energies of individuals to create and support an overall vision for the City and AHMUD Specific Plan area. The compressed time facilitates creative problem-solving by accelerating decision-making and reducing non-constructive negotiation tactics\, and encourages people to abandon their usual working patterns and “think outside of the box.” The consulting team will facilitate a four day charrette.
URL:https://www.montclairplan.org/meeting/visioning-charrette/
LOCATION:Montclair\, Montclair City Hall\, Montclair\, CA
ATTACH;FMTTYPE=image/jpeg:https://www.montclairplan.org/wp-content/uploads/2018/05/Hands-in-the-field.jpg
END:VEVENT
BEGIN:VEVENT
DTSTART;TZID=UTC:20190307T180000
DTEND;TZID=UTC:20190307T193000
DTSTAMP:20260423T232549
CREATED:20190117T173957Z
LAST-MODIFIED:20190117T174104Z
UID:261-1551981600-1551987000@www.montclairplan.org
SUMMARY:CORE Focus Group Meeting
DESCRIPTION:The focus group will discuss the preferred land use plan that directs new growth by reinvesting in key opportunity areas like the Station Area\, Arrow Hwy Mixed-Use District\, the corridors\, and other neighborhood centers while protecting natural resources\, respecting stable residential neighborhoods\, and making great places. The focus group will also address transportation choices by strengthening and balancing pedestrian\, bike\, and transit connections in the City and surrounding region.
URL:https://www.montclairplan.org/meeting/core-focus-group-meeting/
LOCATION:Montclair Senior Center\, 511 Benito Street\, Montclair\, CA\, 91763\, United States
CATEGORIES:Focus Group Meetings
END:VEVENT
BEGIN:VEVENT
DTSTART;TZID=UTC:20190207T180000
DTEND;TZID=UTC:20190207T193000
DTSTAMP:20260423T232549
CREATED:20190117T173044Z
LAST-MODIFIED:20190117T173530Z
UID:259-1549562400-1549567800@www.montclairplan.org
SUMMARY:Our Active & Creative Community Focus Group Meeting
DESCRIPTION:The focus groups will address parks and open spaces; and arts\, cultural events\, and community programs.
URL:https://www.montclairplan.org/meeting/our-active-creative-community-focus-group-meeting/
LOCATION:Montclair Senior Center\, 511 Benito Street\, Montclair\, CA\, 91763\, United States
CATEGORIES:Focus Group Meetings
END:VEVENT
BEGIN:VEVENT
DTSTART;TZID=UTC:20190131T180000
DTEND;TZID=UTC:20190131T193000
DTSTAMP:20260423T232549
CREATED:20190117T172500Z
LAST-MODIFIED:20190117T172500Z
UID:257-1548957600-1548963000@www.montclairplan.org
SUMMARY:Our Natural\, Healthy\, & Our Safe Community Focus Group Meeting
DESCRIPTION:The focus groups will address how Montclair can thrive in balance with the communities natural ecosystems\, and will build effective partnerships that protect and improve the social well being and security.
URL:https://www.montclairplan.org/meeting/our-natural-healthy-our-safe-community-focus-group-meeting/
LOCATION:Montclair Senior Center\, 511 Benito Street\, Montclair\, CA\, 91763\, United States
CATEGORIES:Focus Group Meetings
END:VEVENT
BEGIN:VEVENT
DTSTART;TZID=UTC:20190117T180000
DTEND;TZID=UTC:20190117T193000
DTSTAMP:20260423T232549
CREATED:20190117T171633Z
LAST-MODIFIED:20190117T171633Z
UID:253-1547748000-1547753400@www.montclairplan.org
SUMMARY:Our Prosperous Community Focus Group Meeting
DESCRIPTION:This focus group will discuss how Montclair can attract and retain high-wage and high-value enterprises\, and diversify and increase the local tax base.
URL:https://www.montclairplan.org/meeting/our-prosperous-community-focus-group-meeting/
LOCATION:Montclair Senior Center\, 511 Benito Street\, Montclair\, CA\, 91763\, United States
END:VEVENT
BEGIN:VEVENT
DTSTART;TZID=UTC:20180625T190000
DTEND;TZID=UTC:20180625T200000
DTSTAMP:20260423T232549
CREATED:20180530T183035Z
LAST-MODIFIED:20180530T183035Z
UID:131-1529953200-1529956800@www.montclairplan.org
SUMMARY:Scope\, Schedule & Civic Engagement
DESCRIPTION:
URL:https://www.montclairplan.org/meeting/scope-schedule-civic-engagement/
LOCATION:Montclair\, Montclair City Hall\, Montclair\, CA
END:VEVENT
END:VCALENDAR